BEGIN:VCALENDAR
VERSION:2.0
PRODID:-//Bürgerschützenverein 1822 Herbern e.V. - ECPv6.15.20//NONSGML v1.0//EN
CALSCALE:GREGORIAN
METHOD:PUBLISH
X-WR-CALNAME:Bürgerschützenverein 1822 Herbern e.V.
X-ORIGINAL-URL:https://bsv1822.de
X-WR-CALDESC:Veranstaltungen für Bürgerschützenverein 1822 Herbern e.V.
REFRESH-INTERVAL;VALUE=DURATION:PT1H
X-Robots-Tag:noindex
X-PUBLISHED-TTL:PT1H
BEGIN:VTIMEZONE
TZID:Europe/Berlin
BEGIN:DAYLIGHT
TZOFFSETFROM:+0100
TZOFFSETTO:+0200
TZNAME:CEST
DTSTART:20240331T010000
END:DAYLIGHT
BEGIN:STANDARD
TZOFFSETFROM:+0200
TZOFFSETTO:+0100
TZNAME:CET
DTSTART:20241027T010000
END:STANDARD
BEGIN:DAYLIGHT
TZOFFSETFROM:+0100
TZOFFSETTO:+0200
TZNAME:CEST
DTSTART:20250330T010000
END:DAYLIGHT
BEGIN:STANDARD
TZOFFSETFROM:+0200
TZOFFSETTO:+0100
TZNAME:CET
DTSTART:20251026T010000
END:STANDARD
BEGIN:DAYLIGHT
TZOFFSETFROM:+0100
TZOFFSETTO:+0200
TZNAME:CEST
DTSTART:20260329T010000
END:DAYLIGHT
BEGIN:STANDARD
TZOFFSETFROM:+0200
TZOFFSETTO:+0100
TZNAME:CET
DTSTART:20261025T010000
END:STANDARD
END:VTIMEZONE
BEGIN:VEVENT
DTSTART;VALUE=DATE:20250613
DTEND;VALUE=DATE:20250616
DTSTAMP:20260425T134436
CREATED:20240828T173827Z
LAST-MODIFIED:20250610T092103Z
UID:7472-1749772800-1750031999@bsv1822.de
SUMMARY:Schützenfest
DESCRIPTION:Festfolge Schützenfest 2025\nMitgliederehrungen 2025
URL:https://bsv1822.de/termine/schuetzenfest-2/
CATEGORIES:Schützenfest
ATTACH;FMTTYPE=image/jpeg:https://bsv1822.de/wp-content/uploads/2023/09/Foto-18.08.23-08-34-05.jpg
END:VEVENT
END:VCALENDAR