BEGIN:VCALENDAR
VERSION:2.0
PRODID:-//Bürgerschützenverein 1822 Herbern e.V. - ECPv6.15.20//NONSGML v1.0//EN
CALSCALE:GREGORIAN
METHOD:PUBLISH
X-WR-CALNAME:Bürgerschützenverein 1822 Herbern e.V.
X-ORIGINAL-URL:https://bsv1822.de
X-WR-CALDESC:Veranstaltungen für Bürgerschützenverein 1822 Herbern e.V.
REFRESH-INTERVAL;VALUE=DURATION:PT1H
X-Robots-Tag:noindex
X-PUBLISHED-TTL:PT1H
BEGIN:VTIMEZONE
TZID:Europe/Berlin
BEGIN:DAYLIGHT
TZOFFSETFROM:+0100
TZOFFSETTO:+0200
TZNAME:CEST
DTSTART:20250330T010000
END:DAYLIGHT
BEGIN:STANDARD
TZOFFSETFROM:+0200
TZOFFSETTO:+0100
TZNAME:CET
DTSTART:20251026T010000
END:STANDARD
BEGIN:DAYLIGHT
TZOFFSETFROM:+0100
TZOFFSETTO:+0200
TZNAME:CEST
DTSTART:20260329T010000
END:DAYLIGHT
BEGIN:STANDARD
TZOFFSETFROM:+0200
TZOFFSETTO:+0100
TZNAME:CET
DTSTART:20261025T010000
END:STANDARD
BEGIN:DAYLIGHT
TZOFFSETFROM:+0100
TZOFFSETTO:+0200
TZNAME:CEST
DTSTART:20270328T010000
END:DAYLIGHT
BEGIN:STANDARD
TZOFFSETFROM:+0200
TZOFFSETTO:+0100
TZNAME:CET
DTSTART:20271031T010000
END:STANDARD
END:VTIMEZONE
BEGIN:VEVENT
DTSTART;TZID=Europe/Berlin:20260513T180000
DTEND;TZID=Europe/Berlin:20260513T233000
DTSTAMP:20260423T140317
CREATED:20260327T183338Z
LAST-MODIFIED:20260327T183338Z
UID:8655-1778695200-1778715000@bsv1822.de
SUMMARY:Schützenfest Nordick und Umgebung
DESCRIPTION:
URL:https://bsv1822.de/termine/schuetzenfest-nordick-und-umgebung-3/
LOCATION:Gaststätte Zur Alten Mühle\, Werner Str. 1\, Ascheberg\, 59387
CATEGORIES:Avantgarde,Damengarde,Ehrengarde,Offizierscorp,Vorstand
ATTACH;FMTTYPE=image/webp:https://bsv1822.de/wp-content/uploads/2022/11/9863D583-AC9C-4478-8348-39BEBA1A9621.webp
END:VEVENT
BEGIN:VEVENT
DTSTART;TZID=Europe/Berlin:20260516T180000
DTEND;TZID=Europe/Berlin:20260516T233000
DTSTAMP:20260423T140317
CREATED:20260327T183454Z
LAST-MODIFIED:20260327T183454Z
UID:8657-1778954400-1778974200@bsv1822.de
SUMMARY:Schützenfest Ascheberg
DESCRIPTION:
URL:https://bsv1822.de/termine/schuetzenfest-ascheberg/
LOCATION:Gaststätte Zur Alten Mühle\, Werner Str. 1\, Ascheberg\, 59387
CATEGORIES:Avantgarde,Damengarde,Ehrengarde,Offizierscorp,Vorstand
ATTACH;FMTTYPE=image/jpeg:https://bsv1822.de/wp-content/uploads/2022/11/15BB4128-9DA5-43A1-8733-8B7F1A4ACC22.jpeg
END:VEVENT
END:VCALENDAR