BEGIN:VCALENDAR
VERSION:2.0
PRODID:-//Bürgerschützenverein 1822 Herbern e.V. - ECPv6.15.20//NONSGML v1.0//EN
CALSCALE:GREGORIAN
METHOD:PUBLISH
X-WR-CALNAME:Bürgerschützenverein 1822 Herbern e.V.
X-ORIGINAL-URL:https://bsv1822.de
X-WR-CALDESC:Veranstaltungen für Bürgerschützenverein 1822 Herbern e.V.
REFRESH-INTERVAL;VALUE=DURATION:PT1H
X-Robots-Tag:noindex
X-PUBLISHED-TTL:PT1H
BEGIN:VTIMEZONE
TZID:Europe/Berlin
BEGIN:DAYLIGHT
TZOFFSETFROM:+0100
TZOFFSETTO:+0200
TZNAME:CEST
DTSTART:20250330T010000
END:DAYLIGHT
BEGIN:STANDARD
TZOFFSETFROM:+0200
TZOFFSETTO:+0100
TZNAME:CET
DTSTART:20251026T010000
END:STANDARD
BEGIN:DAYLIGHT
TZOFFSETFROM:+0100
TZOFFSETTO:+0200
TZNAME:CEST
DTSTART:20260329T010000
END:DAYLIGHT
BEGIN:STANDARD
TZOFFSETFROM:+0200
TZOFFSETTO:+0100
TZNAME:CET
DTSTART:20261025T010000
END:STANDARD
BEGIN:DAYLIGHT
TZOFFSETFROM:+0100
TZOFFSETTO:+0200
TZNAME:CEST
DTSTART:20270328T010000
END:DAYLIGHT
BEGIN:STANDARD
TZOFFSETFROM:+0200
TZOFFSETTO:+0100
TZNAME:CET
DTSTART:20271031T010000
END:STANDARD
END:VTIMEZONE
BEGIN:VEVENT
DTSTART;VALUE=DATE:20260612
DTEND;VALUE=DATE:20260615
DTSTAMP:20260423T125313
CREATED:20260327T184239Z
LAST-MODIFIED:20260409T141130Z
UID:8669-1781222400-1781481599@bsv1822.de
SUMMARY:Schützenfest
DESCRIPTION:
URL:https://bsv1822.de/termine/schuetzenfest-3/
CATEGORIES:Avantgarde,Damengarde,Ehrengarde,Offizierscorp,Schützenfest,Verein,Vorstand
ATTACH;FMTTYPE=image/jpeg:https://bsv1822.de/wp-content/uploads/2026/04/Schuetzenfest-Symbolbild.jpg
END:VEVENT
BEGIN:VEVENT
DTSTART;VALUE=DATE:20260905
DTEND;VALUE=DATE:20260906
DTSTAMP:20260423T125313
CREATED:20260327T183740Z
LAST-MODIFIED:20260327T183740Z
UID:8661-1788566400-1788652799@bsv1822.de
SUMMARY:Biwak
DESCRIPTION:
URL:https://bsv1822.de/termine/biwak/
CATEGORIES:Ausmarsch
ATTACH;FMTTYPE=image/gif:https://bsv1822.de/wp-content/uploads/2023/01/1E1887F2-8576-4EC5-97B9-A0E134D405A3.gif
END:VEVENT
BEGIN:VEVENT
DTSTART;VALUE=DATE:20260926
DTEND;VALUE=DATE:20260927
DTSTAMP:20260423T125313
CREATED:20260327T184941Z
LAST-MODIFIED:20260327T184941Z
UID:8680-1790380800-1790467199@bsv1822.de
SUMMARY:Oktoberfest
DESCRIPTION:
URL:https://bsv1822.de/termine/oktoberfest/
CATEGORIES:Damengarde
ATTACH;FMTTYPE=image/jpeg:https://bsv1822.de/wp-content/uploads/2022/09/B2E6912E-0087-42DE-A847-97CA851A87C5.jpeg
END:VEVENT
BEGIN:VEVENT
DTSTART;TZID=Europe/Berlin:20261009T195300
DTEND;TZID=Europe/Berlin:20261009T230000
DTSTAMP:20260423T125313
CREATED:20260327T183906Z
LAST-MODIFIED:20260327T183906Z
UID:8663-1791575580-1791586800@bsv1822.de
SUMMARY:Generalversammlung der Avantgarde
DESCRIPTION:
URL:https://bsv1822.de/termine/generalversammlung-der-avantgarde-6/
LOCATION:Gasthoff Deitermann\, Südstraße 33\, Ascheberg\, 59387
CATEGORIES:Avantgarde
ATTACH;FMTTYPE=image/gif:https://bsv1822.de/wp-content/uploads/2023/01/1E1887F2-8576-4EC5-97B9-A0E134D405A3.gif
END:VEVENT
BEGIN:VEVENT
DTSTART;TZID=Europe/Berlin:20261031T080000
DTEND;TZID=Europe/Berlin:20261031T170000
DTSTAMP:20260423T125313
CREATED:20260327T184343Z
LAST-MODIFIED:20260327T184343Z
UID:8672-1793433600-1793466000@bsv1822.de
SUMMARY:Helfen am Recyclinghof
DESCRIPTION:
URL:https://bsv1822.de/termine/helfen-am-recyclinghof-3/
CATEGORIES:Avantgarde,Damengarde,Ehrengarde,Offizierscorp,Verein,Vorstand
ATTACH;FMTTYPE=image/jpeg:https://bsv1822.de/wp-content/uploads/2023/01/9A6084E7-A537-4183-A3E7-BAC1F2943D22.jpeg
END:VEVENT
BEGIN:VEVENT
DTSTART;TZID=Europe/Berlin:20261031T190000
DTEND;TZID=Europe/Berlin:20261031T233000
DTSTAMP:20260423T125313
CREATED:20260327T184037Z
LAST-MODIFIED:20260327T184037Z
UID:8666-1793473200-1793489400@bsv1822.de
SUMMARY:Halloweenschießen
DESCRIPTION:
URL:https://bsv1822.de/termine/halloweenschiessen-2/
LOCATION:Schießheim\, Am Haselbüschken\, Herbern\, 59387\, Deutschland
CATEGORIES:Avantgarde
END:VEVENT
BEGIN:VEVENT
DTSTART;TZID=Europe/Berlin:20261115T110000
DTEND;TZID=Europe/Berlin:20261115T120000
DTSTAMP:20260423T125313
CREATED:20260327T184500Z
LAST-MODIFIED:20260327T184500Z
UID:8674-1794740400-1794744000@bsv1822.de
SUMMARY:Volkstrauertag
DESCRIPTION:
URL:https://bsv1822.de/termine/volkstrauertag-4/
CATEGORIES:Avantgarde,Damengarde,Ehrengarde,Offizierscorp,Verein,Vorstand
ATTACH;FMTTYPE=image/jpeg:https://bsv1822.de/wp-content/uploads/2025/11/IMG_9059-2-scaled.jpeg
END:VEVENT
BEGIN:VEVENT
DTSTART;TZID=Europe/Berlin:20261121T170000
DTEND;TZID=Europe/Berlin:20261121T200000
DTSTAMP:20260423T125313
CREATED:20260327T184725Z
LAST-MODIFIED:20260327T184725Z
UID:8677-1795280400-1795291200@bsv1822.de
SUMMARY:Generalversammlung
DESCRIPTION:
URL:https://bsv1822.de/termine/generalversammlung-5/
LOCATION:Hotel Wolfsjäger\, Südstraße 36\, Herbern\, 59387\, Germany
CATEGORIES:Avantgarde,Damengarde,Ehrengarde,Offizierscorp,Vorstand
ATTACH;FMTTYPE=image/jpeg:https://bsv1822.de/wp-content/uploads/2025/11/IMG_9082-scaled.jpeg
END:VEVENT
END:VCALENDAR