BEGIN:VCALENDAR
VERSION:2.0
PRODID:-//Bürgerschützenverein 1822 Herbern e.V. - ECPv6.15.20//NONSGML v1.0//EN
CALSCALE:GREGORIAN
METHOD:PUBLISH
X-WR-CALNAME:Bürgerschützenverein 1822 Herbern e.V.
X-ORIGINAL-URL:https://bsv1822.de
X-WR-CALDESC:Veranstaltungen für Bürgerschützenverein 1822 Herbern e.V.
REFRESH-INTERVAL;VALUE=DURATION:PT1H
X-Robots-Tag:noindex
X-PUBLISHED-TTL:PT1H
BEGIN:VTIMEZONE
TZID:Europe/Berlin
BEGIN:DAYLIGHT
TZOFFSETFROM:+0100
TZOFFSETTO:+0200
TZNAME:CEST
DTSTART:20230326T010000
END:DAYLIGHT
BEGIN:STANDARD
TZOFFSETFROM:+0200
TZOFFSETTO:+0100
TZNAME:CET
DTSTART:20231029T010000
END:STANDARD
BEGIN:DAYLIGHT
TZOFFSETFROM:+0100
TZOFFSETTO:+0200
TZNAME:CEST
DTSTART:20240331T010000
END:DAYLIGHT
BEGIN:STANDARD
TZOFFSETFROM:+0200
TZOFFSETTO:+0100
TZNAME:CET
DTSTART:20241027T010000
END:STANDARD
BEGIN:DAYLIGHT
TZOFFSETFROM:+0100
TZOFFSETTO:+0200
TZNAME:CEST
DTSTART:20250330T010000
END:DAYLIGHT
BEGIN:STANDARD
TZOFFSETFROM:+0200
TZOFFSETTO:+0100
TZNAME:CET
DTSTART:20251026T010000
END:STANDARD
BEGIN:DAYLIGHT
TZOFFSETFROM:+0100
TZOFFSETTO:+0200
TZNAME:CEST
DTSTART:20260329T010000
END:DAYLIGHT
BEGIN:STANDARD
TZOFFSETFROM:+0200
TZOFFSETTO:+0100
TZNAME:CET
DTSTART:20261025T010000
END:STANDARD
BEGIN:DAYLIGHT
TZOFFSETFROM:+0100
TZOFFSETTO:+0200
TZNAME:CEST
DTSTART:20270328T010000
END:DAYLIGHT
BEGIN:STANDARD
TZOFFSETFROM:+0200
TZOFFSETTO:+0100
TZNAME:CET
DTSTART:20271031T010000
END:STANDARD
END:VTIMEZONE
BEGIN:VEVENT
DTSTART;TZID=Europe/Berlin:20260418T160000
DTEND;TZID=Europe/Berlin:20260418T180000
DTSTAMP:20260423T124638
CREATED:20260327T182940Z
LAST-MODIFIED:20260327T182940Z
UID:8649-1776528000-1776535200@bsv1822.de
SUMMARY:Marschieren üben und singen
DESCRIPTION:
URL:https://bsv1822.de/termine/marschieren-ueben-und-singen/
LOCATION:Schützenplatz\, Graf-Ferdinand-von-Merveldt-Schützenplatz\, Herbern\, 59387\, Deutschland
CATEGORIES:Avantgarde,Damengarde
ATTACH;FMTTYPE=image/jpeg:https://bsv1822.de/wp-content/uploads/2025/11/IMG_9048-1-scaled.jpeg
END:VEVENT
BEGIN:VEVENT
DTSTART;TZID=Europe/Berlin:20260402T195300
DTEND;TZID=Europe/Berlin:20260402T220000
DTSTAMP:20260423T124638
CREATED:20260327T182803Z
LAST-MODIFIED:20260327T182803Z
UID:8647-1775159580-1775167200@bsv1822.de
SUMMARY:Generalversammlung der Avantgarde
DESCRIPTION:
URL:https://bsv1822.de/termine/generalversammlung-der-avantgarde-5/
LOCATION:Gasthoff Deitermann\, Südstraße 33\, Ascheberg\, 59387
CATEGORIES:Avantgarde
ATTACH;FMTTYPE=image/gif:https://bsv1822.de/wp-content/uploads/2023/01/1E1887F2-8576-4EC5-97B9-A0E134D405A3.gif
END:VEVENT
BEGIN:VEVENT
DTSTART;VALUE=DATE:20251213
DTEND;VALUE=DATE:20251214
DTSTAMP:20260423T124638
CREATED:20250305T163531Z
LAST-MODIFIED:20250305T163531Z
UID:7563-1765584000-1765670399@bsv1822.de
SUMMARY:Weihnachtsessen
DESCRIPTION:
URL:https://bsv1822.de/termine/weihnachtsessen/
CATEGORIES:Avantgarde
ATTACH;FMTTYPE=image/gif:https://bsv1822.de/wp-content/uploads/2023/01/1E1887F2-8576-4EC5-97B9-A0E134D405A3.gif
END:VEVENT
BEGIN:VEVENT
DTSTART;TZID=Europe/Berlin:20251122T170000
DTEND;TZID=Europe/Berlin:20251122T200000
DTSTAMP:20260423T124638
CREATED:20250129T084330Z
LAST-MODIFIED:20250917T184035Z
UID:7547-1763830800-1763841600@bsv1822.de
SUMMARY:Generalversammlung
DESCRIPTION:
URL:https://bsv1822.de/termine/generalversammlung-4/
CATEGORIES:Verein
ATTACH;FMTTYPE=image/jpeg:https://bsv1822.de/wp-content/uploads/2023/09/Vereinsseite.jpg
END:VEVENT
BEGIN:VEVENT
DTSTART;TZID=Europe/Berlin:20251116T110000
DTEND;TZID=Europe/Berlin:20251116T133000
DTSTAMP:20260423T124638
CREATED:20250129T084212Z
LAST-MODIFIED:20250129T084212Z
UID:7545-1763290800-1763299800@bsv1822.de
SUMMARY:Volkstrauertag
DESCRIPTION:
URL:https://bsv1822.de/termine/volkstrauertag-3/
CATEGORIES:Avantgarde,Damengarde,Offizierscorp,Verein,Vorstand
ATTACH;FMTTYPE=image/jpeg:https://bsv1822.de/wp-content/uploads/2023/04/6I4A5722.jpg
END:VEVENT
BEGIN:VEVENT
DTSTART;TZID=Europe/Berlin:20251115T100000
DTEND;TZID=Europe/Berlin:20251115T170000
DTSTAMP:20260423T124638
CREATED:20250917T185839Z
LAST-MODIFIED:20250917T185839Z
UID:8474-1763200800-1763226000@bsv1822.de
SUMMARY:Platzpflege und Bänke abbauen
DESCRIPTION:
URL:https://bsv1822.de/termine/platzpflege-und-baenke-abbauen/
ATTACH;FMTTYPE=image/jpeg:https://bsv1822.de/wp-content/uploads/2025/04/2024-6-7-6I4A0501.jpeg
END:VEVENT
BEGIN:VEVENT
DTSTART;TZID=Europe/Berlin:20251107T183000
DTEND;TZID=Europe/Berlin:20251107T190000
DTSTAMP:20260423T124638
CREATED:20250917T190129Z
LAST-MODIFIED:20250917T190129Z
UID:8476-1762540200-1762542000@bsv1822.de
SUMMARY:Innere Vorstandssitzung
DESCRIPTION:
URL:https://bsv1822.de/termine/innere-vorstandssitzung-5/
LOCATION:Schießheim\, Am Haselbüschken\, Herbern\, 59387\, Deutschland
CATEGORIES:Vorstand
ATTACH;FMTTYPE=image/jpeg:https://bsv1822.de/wp-content/uploads/2020/09/IMG_3079.jpg
END:VEVENT
BEGIN:VEVENT
DTSTART;TZID=Europe/Berlin:20251031T190000
DTEND;TZID=Europe/Berlin:20251031T233000
DTSTAMP:20260423T124638
CREATED:20250305T163433Z
LAST-MODIFIED:20250305T163433Z
UID:7560-1761937200-1761953400@bsv1822.de
SUMMARY:Halloween -Schießen
DESCRIPTION:
URL:https://bsv1822.de/termine/halloween-schiessen/
LOCATION:Schießheim\, Am Haselbüschken\, Herbern\, 59387\, Deutschland
CATEGORIES:Avantgarde
ATTACH;FMTTYPE=image/gif:https://bsv1822.de/wp-content/uploads/2023/01/1E1887F2-8576-4EC5-97B9-A0E134D405A3.gif
END:VEVENT
BEGIN:VEVENT
DTSTART;TZID=Europe/Berlin:20251025T080000
DTEND;TZID=Europe/Berlin:20251025T170000
DTSTAMP:20260423T124638
CREATED:20250917T185656Z
LAST-MODIFIED:20250917T185656Z
UID:8470-1761379200-1761411600@bsv1822.de
SUMMARY:Recyclinghof
DESCRIPTION:
URL:https://bsv1822.de/termine/recyclinghof/
CATEGORIES:Avantgarde,Damengarde,Ehrengarde,Offizierscorp,Verein
ATTACH;FMTTYPE=image/jpeg:https://bsv1822.de/wp-content/uploads/2023/01/9A6084E7-A537-4183-A3E7-BAC1F2943D22.jpeg
END:VEVENT
BEGIN:VEVENT
DTSTART;TZID=Europe/Berlin:20251011T180000
DTEND;TZID=Europe/Berlin:20251011T180000
DTSTAMP:20260423T124638
CREATED:20250917T184219Z
LAST-MODIFIED:20250917T185931Z
UID:8467-1760205600-1760205600@bsv1822.de
SUMMARY:Generalversammlung der Damengarde
DESCRIPTION:
URL:https://bsv1822.de/termine/generalversammlung-der-damengarde-4/
LOCATION:Gaststätte Zur Alten Mühle\, Werner Str. 1\, Ascheberg\, 59387
ATTACH;FMTTYPE=image/jpeg:https://bsv1822.de/wp-content/uploads/2022/09/B2E6912E-0087-42DE-A847-97CA851A87C5.jpeg
END:VEVENT
BEGIN:VEVENT
DTSTART;VALUE=DATE:20251004
DTEND;VALUE=DATE:20251005
DTSTAMP:20260423T124638
CREATED:20250129T083959Z
LAST-MODIFIED:20250129T083959Z
UID:7543-1759536000-1759622399@bsv1822.de
SUMMARY:Oktoberfest der Damengarde
DESCRIPTION:
URL:https://bsv1822.de/termine/oktoberfest-der-damengarde-3/
CATEGORIES:Damengarde
ATTACH;FMTTYPE=image/jpeg:https://bsv1822.de/wp-content/uploads/2022/09/B2E6912E-0087-42DE-A847-97CA851A87C5.jpeg
END:VEVENT
BEGIN:VEVENT
DTSTART;TZID=Europe/Berlin:20251002T180000
DTEND;TZID=Europe/Berlin:20251002T233000
DTSTAMP:20260423T124638
CREATED:20250129T083905Z
LAST-MODIFIED:20250917T184310Z
UID:7541-1759428000-1759447800@bsv1822.de
SUMMARY:Königscheibe aufhängen
DESCRIPTION:
URL:https://bsv1822.de/termine/koenigscheibe-aufhaengen-4/
LOCATION:Gaststätte Zur Alten Mühle\, Werner Str. 1\, Ascheberg\, 59387
CATEGORIES:Avantgarde,Damengarde,Offizierscorp,Vorstand
ATTACH;FMTTYPE=image/jpeg:https://bsv1822.de/wp-content/uploads/2022/07/B46F1A04-9572-433D-BBBD-5A1D332086F5.jpeg
END:VEVENT
BEGIN:VEVENT
DTSTART;VALUE=DATE:20250920
DTEND;VALUE=DATE:20250921
DTSTAMP:20260423T124638
CREATED:20250129T082617Z
LAST-MODIFIED:20250129T082617Z
UID:7528-1758326400-1758412799@bsv1822.de
SUMMARY:Gemeindeschützenfest
DESCRIPTION:
URL:https://bsv1822.de/termine/gemeindeschuetzenfest-2/
CATEGORIES:Schützenfest
ATTACH;FMTTYPE=image/jpeg:https://bsv1822.de/wp-content/uploads/2024/02/8F9575D9-4418-4C4F-8836-0780530CAD73.jpeg
END:VEVENT
BEGIN:VEVENT
DTSTART;TZID=Europe/Berlin:20250906T110000
DTEND;TZID=Europe/Berlin:20250906T233000
DTSTAMP:20260423T124638
CREATED:20250305T191032Z
LAST-MODIFIED:20250305T191032Z
UID:7577-1757156400-1757201400@bsv1822.de
SUMMARY:Biwak der Avantgarde mit Königschießen
DESCRIPTION:
URL:https://bsv1822.de/termine/biwak-der-avantgarde-mit-koenigschiessen/
CATEGORIES:Avantgarde
ATTACH;FMTTYPE=image/gif:https://bsv1822.de/wp-content/uploads/2023/01/1E1887F2-8576-4EC5-97B9-A0E134D405A3.gif
END:VEVENT
BEGIN:VEVENT
DTSTART;VALUE=DATE:20250810
DTEND;VALUE=DATE:20250811
DTSTAMP:20260423T124638
CREATED:20250129T082851Z
LAST-MODIFIED:20250129T082851Z
UID:7530-1754784000-1754870399@bsv1822.de
SUMMARY:Jubiläum Junggesellenschützenverein St. Hubertus Drensteinfurt
DESCRIPTION:
URL:https://bsv1822.de/termine/jubilaeum-junggesellenschuetzenverein-st-hubertus-drensteinfurt/
CATEGORIES:Schützenfest
ATTACH;FMTTYPE=image/jpeg:https://bsv1822.de/wp-content/uploads/2025/01/474191CB-EE00-4387-AAA1-7CB5D91FF78B.jpeg
END:VEVENT
BEGIN:VEVENT
DTSTART;VALUE=DATE:20250613
DTEND;VALUE=DATE:20250616
DTSTAMP:20260423T124638
CREATED:20240828T173827Z
LAST-MODIFIED:20250610T092103Z
UID:7472-1749772800-1750031999@bsv1822.de
SUMMARY:Schützenfest
DESCRIPTION:Festfolge Schützenfest 2025\nMitgliederehrungen 2025
URL:https://bsv1822.de/termine/schuetzenfest-2/
CATEGORIES:Schützenfest
ATTACH;FMTTYPE=image/jpeg:https://bsv1822.de/wp-content/uploads/2023/09/Foto-18.08.23-08-34-05.jpg
END:VEVENT
BEGIN:VEVENT
DTSTART;VALUE=DATE:20250612
DTEND;VALUE=DATE:20250613
DTSTAMP:20260423T124638
CREATED:20250305T163141Z
LAST-MODIFIED:20250305T163141Z
UID:7556-1749686400-1749772799@bsv1822.de
SUMMARY:Traditionelle Schnapsprobe
DESCRIPTION:
URL:https://bsv1822.de/termine/traditionelle-schnapsprobe-2/
CATEGORIES:Avantgarde
ATTACH;FMTTYPE=image/gif:https://bsv1822.de/wp-content/uploads/2023/01/1E1887F2-8576-4EC5-97B9-A0E134D405A3.gif
END:VEVENT
BEGIN:VEVENT
DTSTART;VALUE=DATE:20250611
DTEND;VALUE=DATE:20250612
DTSTAMP:20260423T124638
CREATED:20250129T083636Z
LAST-MODIFIED:20250129T083636Z
UID:7539-1749600000-1749686399@bsv1822.de
SUMMARY:Schmücken Hauptquartier
DESCRIPTION:
URL:https://bsv1822.de/termine/schmuecken-hauptquartier/
CATEGORIES:Damengarde
ATTACH;FMTTYPE=image/jpeg:https://bsv1822.de/wp-content/uploads/2022/09/B2E6912E-0087-42DE-A847-97CA851A87C5.jpeg
END:VEVENT
BEGIN:VEVENT
DTSTART;TZID=Europe/Berlin:20250531T170000
DTEND;TZID=Europe/Berlin:20250531T233000
DTSTAMP:20260423T124638
CREATED:20250129T082509Z
LAST-MODIFIED:20250129T082509Z
UID:7526-1748710800-1748734200@bsv1822.de
SUMMARY:Bürgerschützenfest Ascheberg
DESCRIPTION:
URL:https://bsv1822.de/termine/buergerschuetzenfest-ascheberg-2/
CATEGORIES:Schützenfest
ATTACH;FMTTYPE=image/jpeg:https://bsv1822.de/wp-content/uploads/2022/11/15BB4128-9DA5-43A1-8733-8B7F1A4ACC22.jpeg
END:VEVENT
BEGIN:VEVENT
DTSTART;TZID=Europe/Berlin:20250528T180000
DTEND;TZID=Europe/Berlin:20250528T233000
DTSTAMP:20260423T124638
CREATED:20250129T082335Z
LAST-MODIFIED:20250129T082350Z
UID:7524-1748455200-1748475000@bsv1822.de
SUMMARY:Schützenfest Nordick und Umgebung
DESCRIPTION:
URL:https://bsv1822.de/termine/schuetzenfest-nordick-und-umgebung-2/
CATEGORIES:Schützenfest
ATTACH;FMTTYPE=image/webp:https://bsv1822.de/wp-content/uploads/2022/11/9863D583-AC9C-4478-8348-39BEBA1A9621.webp
END:VEVENT
BEGIN:VEVENT
DTSTART;VALUE=DATE:20250524
DTEND;VALUE=DATE:20250525
DTSTAMP:20260423T124638
CREATED:20250129T082223Z
LAST-MODIFIED:20250129T082224Z
UID:7522-1748044800-1748131199@bsv1822.de
SUMMARY:Jubiläum Schützenverein Horst & Wessel
DESCRIPTION:
URL:https://bsv1822.de/termine/jubilaeum-schuetzenverein-horst-wessel/
CATEGORIES:Schützenfest
ATTACH;FMTTYPE=image/jpeg:https://bsv1822.de/wp-content/uploads/2022/11/F3B8AAFA-34A6-4D1B-89EB-6DDBCDE5903A.jpeg
END:VEVENT
BEGIN:VEVENT
DTSTART;TZID=Europe/Berlin:20250426T150000
DTEND;TZID=Europe/Berlin:20250426T233000
DTSTAMP:20260423T124638
CREATED:20250129T081839Z
LAST-MODIFIED:20250129T081839Z
UID:7519-1745679600-1745710200@bsv1822.de
SUMMARY:Ausmarsch
DESCRIPTION:
URL:https://bsv1822.de/termine/ausmarsch-4/
LOCATION:MSC Gelände\, Im Südfeld\, Ascheberg-Herbern\, 59387
CATEGORIES:Ausmarsch
ATTACH;FMTTYPE=image/jpeg:https://bsv1822.de/wp-content/uploads/2023/09/Foto-18.08.23-08-34-14.jpg
END:VEVENT
BEGIN:VEVENT
DTSTART;TZID=Europe/Berlin:20250417T195300
DTEND;TZID=Europe/Berlin:20250418T000000
DTSTAMP:20260423T124638
CREATED:20250305T162956Z
LAST-MODIFIED:20250305T163033Z
UID:7553-1744919580-1744934400@bsv1822.de
SUMMARY:Generalversammlung der Avantgarde
DESCRIPTION:
URL:https://bsv1822.de/termine/generalversammlung-der-avantgarde-3/
CATEGORIES:Avantgarde
ATTACH;FMTTYPE=image/gif:https://bsv1822.de/wp-content/uploads/2023/01/1E1887F2-8576-4EC5-97B9-A0E134D405A3.gif
END:VEVENT
BEGIN:VEVENT
DTSTART;TZID=Europe/Berlin:20250411T193000
DTEND;TZID=Europe/Berlin:20250411T233000
DTSTAMP:20260423T124638
CREATED:20250305T190854Z
LAST-MODIFIED:20250310T172820Z
UID:7575-1744399800-1744414200@bsv1822.de
SUMMARY:Treffen Ehrengarde
DESCRIPTION:
URL:https://bsv1822.de/termine/treffen-ehrengarde/
LOCATION:Gaststätte Zur Alten Mühle\, Werner Str. 1\, Ascheberg\, 59387
CATEGORIES:Ehrengarde
ATTACH;FMTTYPE=image/jpeg:https://bsv1822.de/wp-content/uploads/2025/03/7BFC8563-FC99-4BBA-BDC8-BFAF65E1448D.jpeg
END:VEVENT
BEGIN:VEVENT
DTSTART;TZID=Europe/Berlin:20250404T193000
DTEND;TZID=Europe/Berlin:20250404T233000
DTSTAMP:20260423T124638
CREATED:20250305T194427Z
LAST-MODIFIED:20250305T194427Z
UID:7580-1743795000-1743809400@bsv1822.de
SUMMARY:Gesamtvorstandsitzung
DESCRIPTION:
URL:https://bsv1822.de/termine/gesamtvorstandsitzung-2/
CATEGORIES:Offizierscorp,Vorstand
ATTACH;FMTTYPE=image/jpeg:https://bsv1822.de/wp-content/uploads/2023/09/2022-05-02-16.57.44.jpg
END:VEVENT
BEGIN:VEVENT
DTSTART;TZID=Europe/Berlin:20250314T190000
DTEND;TZID=Europe/Berlin:20250314T233000
DTSTAMP:20260423T124638
CREATED:20250129T083544Z
LAST-MODIFIED:20250129T083544Z
UID:7537-1741978800-1741995000@bsv1822.de
SUMMARY:Generalversammlung Damengarde
DESCRIPTION:
URL:https://bsv1822.de/termine/generalversammlung-damengarde-2/
CATEGORIES:Damengarde
ATTACH;FMTTYPE=image/jpeg:https://bsv1822.de/wp-content/uploads/2022/09/B2E6912E-0087-42DE-A847-97CA851A87C5.jpeg
END:VEVENT
BEGIN:VEVENT
DTSTART;TZID=Europe/Berlin:20250308T080000
DTEND;TZID=Europe/Berlin:20250308T170000
DTSTAMP:20260423T124638
CREATED:20250129T083417Z
LAST-MODIFIED:20250129T083417Z
UID:7535-1741420800-1741453200@bsv1822.de
SUMMARY:Aktion saubere Landschaft
DESCRIPTION:
URL:https://bsv1822.de/termine/aktion-saubere-landschaft-3/
CATEGORIES:Avantgarde,Damengarde,Offizierscorp,Verein,Vorstand
ATTACH;FMTTYPE=image/jpeg:https://bsv1822.de/wp-content/uploads/2023/04/E72A4FE9-18C0-4AEE-A1EA-447FAC8F2FA8.jpeg
END:VEVENT
BEGIN:VEVENT
DTSTART;TZID=Europe/Berlin:20250219T190000
DTEND;TZID=Europe/Berlin:20250219T233000
DTSTAMP:20260423T124638
CREATED:20250129T083208Z
LAST-MODIFIED:20250129T083208Z
UID:7533-1739991600-1740007800@bsv1822.de
SUMMARY:Innerer Vorstandssitzung
DESCRIPTION:
URL:https://bsv1822.de/termine/innerer-vorstandssitzung/
CATEGORIES:Vorstand
ATTACH;FMTTYPE=image/jpeg:https://bsv1822.de/wp-content/uploads/2020/09/IMG_3079.jpg
END:VEVENT
BEGIN:VEVENT
DTSTART;TZID=Europe/Berlin:20241206T193000
DTEND;TZID=Europe/Berlin:20241206T233000
DTSTAMP:20260423T124638
CREATED:20240207T101927Z
LAST-MODIFIED:20240207T101927Z
UID:7375-1733513400-1733527800@bsv1822.de
SUMMARY:Nikolausschießen
DESCRIPTION:
URL:https://bsv1822.de/termine/nikolausschiessen-2/
LOCATION:Schießheim\, Am Haselbüschken\, Herbern\, 59387\, Deutschland
CATEGORIES:Damengarde
ATTACH;FMTTYPE=image/jpeg:https://bsv1822.de/wp-content/uploads/2022/09/B2E6912E-0087-42DE-A847-97CA851A87C5.jpeg
END:VEVENT
BEGIN:VEVENT
DTSTART;VALUE=DATE:20241201
DTEND;VALUE=DATE:20241202
DTSTAMP:20260423T124638
CREATED:20240207T101806Z
LAST-MODIFIED:20240207T101806Z
UID:7373-1733011200-1733097599@bsv1822.de
SUMMARY:Weihnachtsbasar
DESCRIPTION:
URL:https://bsv1822.de/termine/weihnachtsbasar-2/
CATEGORIES:Verein
ATTACH;FMTTYPE=image/jpeg:https://bsv1822.de/wp-content/uploads/2023/02/cropped-schuetzenfest-1-1.jpg
END:VEVENT
END:VCALENDAR